BEGIN:VCALENDAR
VERSION:2.0
PRODID:-//hacksw/handcal//NONSGML v1.0//EN
CALSCALE:GREGORIAN
BEGIN:VEVENT
DTSTART;TZID="Asia/Jerusalem":19700101T020000
DTEND;TZID="Asia/Jerusalem":19700101T020000
LOCATION:More Info
DESCRIPTION:
SUMMARY:DAPSS Student Research Conference 
TRANSP:TRANSPARENT
END:VEVENT
END:VCALENDAR